Package: VariantAnnotation Version: 1.53.1 Command: /home/biocbuild/bbs-3.21-bioc/R/bin/R CMD INSTALL VariantAnnotation StartedAt: 2025-02-09 15:38:15 -0500 (Sun, 09 Feb 2025) EndedAt: 2025-02-09 15:39:29 -0500 (Sun, 09 Feb 2025) EllapsedTime: 74.4 seconds RetCode: 0 Status: OK