Package: VariantAnnotation Version: 1.53.1 Command: E:\biocbuild\bbs-3.21-bioc\R\bin\R.exe CMD check --no-multiarch --install=check:VariantAnnotation.install-out.txt --library=E:\biocbuild\bbs-3.21-bioc\R\library --no-vignettes --timings VariantAnnotation_1.53.1.tar.gz StartedAt: 2025-02-10 06:28:22 -0500 (Mon, 10 Feb 2025) EndedAt: 2025-02-10 06:38:31 -0500 (Mon, 10 Feb 2025) EllapsedTime: 609.4 seconds RetCode: 0 Status: WARNINGS CheckDir: VariantAnnotation.Rcheck Warnings: 2