Package: VariantExperiment Version: 1.21.0 Command: /Library/Frameworks/R.framework/Resources/bin/R CMD build --keep-empty-dirs --no-resave-data VariantExperiment StartedAt: 2025-02-09 17:52:36 -0500 (Sun, 09 Feb 2025) EndedAt: 2025-02-09 17:52:51 -0500 (Sun, 09 Feb 2025) EllapsedTime: 15.2 seconds RetCode: 1 Status: ERROR PackageFile: None PackageFileSize: NA