Package: VariantExperiment Version: 1.21.0 Command: chmod a+r VariantExperiment -R && E:\biocbuild\bbs-3.21-bioc\R\bin\R.exe CMD build --keep-empty-dirs --no-resave-data VariantExperiment StartedAt: 2025-02-09 22:14:50 -0500 (Sun, 09 Feb 2025) EndedAt: 2025-02-09 22:15:44 -0500 (Sun, 09 Feb 2025) EllapsedTime: 54.6 seconds RetCode: 1 Status: ERROR PackageFile: None PackageFileSize: NA