Package: VariantTools Version: 1.49.0 Command: rm -rf VariantTools.buildbin-libdir && mkdir VariantTools.buildbin-libdir && /Users/biocbuild/BBS/utils/build-universal.sh VariantTools_1.49.0.tar.gz /Library/Frameworks/R.framework/Resources/bin/R VariantTools.buildbin-libdir StartedAt: 2025-02-09 22:34:29 -0500 (Sun, 09 Feb 2025) EndedAt: 2025-02-09 22:34:48 -0500 (Sun, 09 Feb 2025) EllapsedTime: 18.3 seconds RetCode: 0 Status: OK PackageFile: VariantTools_1.49.0.tgz PackageFileSize: 6.294 MiB