Package: VariantTools Version: 1.49.0 Command: /Library/Frameworks/R.framework/Resources/bin/R CMD build --keep-empty-dirs --no-resave-data VariantTools StartedAt: 2025-02-09 17:52:45 -0500 (Sun, 09 Feb 2025) EndedAt: 2025-02-09 17:53:17 -0500 (Sun, 09 Feb 2025) EllapsedTime: 32.4 seconds RetCode: 0 Status: OK PackageFile: VariantTools_1.49.0.tar.gz PackageFileSize: 5.968 MiB