Package: VariantTools Version: 1.49.0 Command: /Library/Frameworks/R.framework/Resources/bin/R CMD check --install=check:VariantTools.install-out.txt --library=/Library/Frameworks/R.framework/Resources/library --no-vignettes --timings VariantTools_1.49.0.tar.gz StartedAt: 2025-02-09 21:54:12 -0500 (Sun, 09 Feb 2025) EndedAt: 2025-02-09 21:56:26 -0500 (Sun, 09 Feb 2025) EllapsedTime: 133.5 seconds RetCode: 0 Status: WARNINGS CheckDir: VariantTools.Rcheck Warnings: 2