Package: VariantTools Version: 1.49.0 Command: /home/biocbuild/bbs-3.21-bioc/R/bin/R CMD INSTALL VariantTools StartedAt: 2025-02-09 15:41:46 -0500 (Sun, 09 Feb 2025) EndedAt: 2025-02-09 15:42:27 -0500 (Sun, 09 Feb 2025) EllapsedTime: 40.9 seconds RetCode: 0 Status: OK