Package: VariantTools Version: 1.49.0 Command: rm -rf VariantTools.buildbin-libdir && mkdir VariantTools.buildbin-libdir && E:\biocbuild\bbs-3.21-bioc\R\bin\R.exe CMD INSTALL --build --library=VariantTools.buildbin-libdir VariantTools_1.49.0.tar.gz StartedAt: 2025-02-10 08:55:56 -0500 (Mon, 10 Feb 2025) EndedAt: 2025-02-10 08:57:24 -0500 (Mon, 10 Feb 2025) EllapsedTime: 88.5 seconds RetCode: 0 Status: OK PackageFile: VariantTools_1.49.0.zip PackageFileSize: 6.318 MiB