Package: VariantTools Version: 1.49.0 Command: set _R_CHECK_FORCE_SUGGESTS_=0&& E:\biocbuild\bbs-3.21-bioc\R\bin\R.exe CMD check --no-multiarch --install=check:VariantTools.install-out.txt --library=E:\biocbuild\bbs-3.21-bioc\R\library --no-vignettes --timings VariantTools_1.49.0.tar.gz StartedAt: 2025-02-10 06:28:49 -0500 (Mon, 10 Feb 2025) EndedAt: 2025-02-10 06:34:58 -0500 (Mon, 10 Feb 2025) EllapsedTime: 368.5 seconds RetCode: 0 Status: WARNINGS CheckDir: VariantTools.Rcheck Warnings: 2