Package: VariantTools Version: 1.49.0 Command: E:\biocbuild\bbs-3.21-bioc\R\bin\R.exe CMD INSTALL VariantTools StartedAt: 2025-02-09 16:42:12 -0500 (Sun, 09 Feb 2025) EndedAt: 2025-02-09 16:43:26 -0500 (Sun, 09 Feb 2025) EllapsedTime: 73.3 seconds RetCode: 0 Status: OK