Package: VennDetail Version: 1.23.0 Command: /home/biocbuild/R/R/bin/R CMD build --keep-empty-dirs --no-resave-data VennDetail StartedAt: 2025-01-28 03:08:10 -0000 (Tue, 28 Jan 2025) EndedAt: 2025-01-28 03:08:26 -0000 (Tue, 28 Jan 2025) EllapsedTime: 16.0 seconds RetCode: 0 Status: OK PackageFile: VennDetail_1.23.0.tar.gz PackageFileSize: 367.8 KiB