Package: VennDetail Version: 1.23.0 Command: /home/biocbuild/R/R/bin/R CMD INSTALL VennDetail StartedAt: 2025-01-29 19:44:24 -0000 (Wed, 29 Jan 2025) EndedAt: 2025-01-29 19:44:31 -0000 (Wed, 29 Jan 2025) EllapsedTime: 7.2 seconds RetCode: 0 Status: OK