Package: VennDetail Version: 1.23.0 Command: rm -rf VennDetail.buildbin-libdir && mkdir VennDetail.buildbin-libdir && /Users/biocbuild/BBS/utils/build-universal.sh VennDetail_1.23.0.tar.gz /Library/Frameworks/R.framework/Resources/bin/R VennDetail.buildbin-libdir StartedAt: 2025-02-05 01:07:45 -0500 (Wed, 05 Feb 2025) EndedAt: 2025-02-05 01:07:55 -0500 (Wed, 05 Feb 2025) EllapsedTime: 10.1 seconds RetCode: 0 Status: OK PackageFile: VennDetail_1.23.0.tgz PackageFileSize: 503.6 KiB