Package: VennDetail Version: 1.23.0 Command: /Library/Frameworks/R.framework/Resources/bin/R CMD check --install=check:VennDetail.install-out.txt --library=/Library/Frameworks/R.framework/Resources/library --no-vignettes --timings VennDetail_1.23.0.tar.gz StartedAt: 2025-02-05 00:02:01 -0500 (Wed, 05 Feb 2025) EndedAt: 2025-02-05 00:06:18 -0500 (Wed, 05 Feb 2025) EllapsedTime: 256.8 seconds RetCode: 0 Status: OK CheckDir: VennDetail.Rcheck Warnings: 0