Package: VennDetail Version: 1.23.0 Command: /Library/Frameworks/R.framework/Resources/bin/R CMD INSTALL VennDetail StartedAt: 2025-02-04 15:12:45 -0500 (Tue, 04 Feb 2025) EndedAt: 2025-02-04 15:13:02 -0500 (Tue, 04 Feb 2025) EllapsedTime: 16.9 seconds RetCode: 0 Status: OK