Package: VennDetail Version: 1.23.0 Command: E:\biocbuild\bbs-3.21-bioc\R\bin\R.exe CMD INSTALL VennDetail StartedAt: 2025-02-09 15:33:51 -0500 (Sun, 09 Feb 2025) EndedAt: 2025-02-09 15:34:21 -0500 (Sun, 09 Feb 2025) EllapsedTime: 29.4 seconds RetCode: 0 Status: OK