Package: ViSEAGO Version: 1.21.0 Command: rm -rf ViSEAGO.buildbin-libdir && mkdir ViSEAGO.buildbin-libdir && /Users/biocbuild/BBS/utils/build-universal.sh ViSEAGO_1.21.0.tar.gz /Library/Frameworks/R.framework/Resources/bin/R ViSEAGO.buildbin-libdir StartedAt: 2025-02-04 22:36:30 -0500 (Tue, 04 Feb 2025) EndedAt: 2025-02-04 22:36:46 -0500 (Tue, 04 Feb 2025) EllapsedTime: 15.4 seconds RetCode: 0 Status: OK PackageFile: ViSEAGO_1.21.0.tgz PackageFileSize: 9.118 MiB