Package: ViSEAGO Version: 1.21.0 Command: /Library/Frameworks/R.framework/Resources/bin/R CMD check --install=check:ViSEAGO.install-out.txt --library=/Library/Frameworks/R.framework/Resources/library --no-vignettes --timings ViSEAGO_1.21.0.tar.gz StartedAt: 2025-02-04 21:57:03 -0500 (Tue, 04 Feb 2025) EndedAt: 2025-02-04 21:58:21 -0500 (Tue, 04 Feb 2025) EllapsedTime: 77.9 seconds RetCode: 0 Status: WARNINGS CheckDir: ViSEAGO.Rcheck Warnings: 4