Package: ViSEAGO Version: 1.21.0 Command: /Library/Frameworks/R.framework/Resources/bin/R CMD INSTALL ViSEAGO StartedAt: 2025-02-04 15:25:52 -0500 (Tue, 04 Feb 2025) EndedAt: 2025-02-04 15:26:05 -0500 (Tue, 04 Feb 2025) EllapsedTime: 12.7 seconds RetCode: 0 Status: OK