Package: ViSEAGO Version: 1.21.0 Command: /Library/Frameworks/R.framework/Resources/bin/R CMD INSTALL ViSEAGO StartedAt: 2025-02-04 15:37:47 -0500 (Tue, 04 Feb 2025) EndedAt: 2025-02-04 15:38:31 -0500 (Tue, 04 Feb 2025) EllapsedTime: 43.8 seconds RetCode: 0 Status: OK