Package: ViSEAGO Version: 1.21.0 Command: /home/biocbuild/bbs-3.21-bioc/R/bin/R CMD build --keep-empty-dirs --no-resave-data ViSEAGO StartedAt: 2025-02-09 19:43:45 -0500 (Sun, 09 Feb 2025) EndedAt: 2025-02-09 19:44:37 -0500 (Sun, 09 Feb 2025) EllapsedTime: 52.1 seconds RetCode: 0 Status: OK PackageFile: ViSEAGO_1.21.0.tar.gz PackageFileSize: 8.623 MiB