Package: ViSEAGO Version: 1.21.0 Command: E:\biocbuild\bbs-3.21-bioc\R\bin\R.exe CMD check --no-multiarch --install=check:ViSEAGO.install-out.txt --library=E:\biocbuild\bbs-3.21-bioc\R\library --no-vignettes --timings ViSEAGO_1.21.0.tar.gz StartedAt: 2025-02-13 06:42:40 -0500 (Thu, 13 Feb 2025) EndedAt: 2025-02-13 06:46:48 -0500 (Thu, 13 Feb 2025) EllapsedTime: 248.3 seconds RetCode: 0 Status: WARNINGS CheckDir: ViSEAGO.Rcheck Warnings: 4