Package: ViSEAGO Version: 1.21.0 Command: E:\biocbuild\bbs-3.21-bioc\R\bin\R.exe CMD INSTALL ViSEAGO StartedAt: 2025-02-09 16:03:41 -0500 (Sun, 09 Feb 2025) EndedAt: 2025-02-09 16:04:39 -0500 (Sun, 09 Feb 2025) EllapsedTime: 58.1 seconds RetCode: 0 Status: OK