Package: Voyager Version: 1.9.2 Command: /Library/Frameworks/R.framework/Resources/bin/R CMD build --keep-empty-dirs --no-resave-data Voyager StartedAt: 2025-02-03 18:30:00 -0500 (Mon, 03 Feb 2025) EndedAt: 2025-02-03 18:30:40 -0500 (Mon, 03 Feb 2025) EllapsedTime: 40.4 seconds RetCode: 0 Status: OK PackageFile: Voyager_1.9.2.tar.gz PackageFileSize: 4.661 MiB