Package: Voyager Version: 1.9.2 Command: /home/biocbuild/R/R/bin/R CMD build --keep-empty-dirs --no-resave-data Voyager StartedAt: 2025-01-28 03:09:05 -0000 (Tue, 28 Jan 2025) EndedAt: 2025-01-28 03:09:06 -0000 (Tue, 28 Jan 2025) EllapsedTime: 1.0 seconds RetCode: 1 Status: ERROR PackageFile: None PackageFileSize: NA