Package: Voyager Version: 1.9.2 Command: /home/biocbuild/R/R/bin/R CMD INSTALL Voyager StartedAt: 2025-01-29 20:29:20 -0000 (Wed, 29 Jan 2025) EndedAt: 2025-01-29 20:29:21 -0000 (Wed, 29 Jan 2025) EllapsedTime: 1.0 seconds RetCode: 1 Status: ERROR