Package: Voyager Version: 1.9.2 Command: rm -rf Voyager.buildbin-libdir && mkdir Voyager.buildbin-libdir && /Users/biocbuild/BBS/utils/build-universal.sh Voyager_1.9.2.tar.gz /Library/Frameworks/R.framework/Resources/bin/R Voyager.buildbin-libdir StartedAt: 2025-02-10 01:22:11 -0500 (Mon, 10 Feb 2025) EndedAt: 2025-02-10 01:23:23 -0500 (Mon, 10 Feb 2025) EllapsedTime: 72.7 seconds RetCode: 0 Status: OK PackageFile: Voyager_1.9.2.tgz PackageFileSize: 4.637 MiB