Package: Voyager Version: 1.9.2 Command: /Library/Frameworks/R.framework/Resources/bin/R CMD INSTALL Voyager StartedAt: 2025-02-09 15:39:54 -0500 (Sun, 09 Feb 2025) EndedAt: 2025-02-09 15:41:07 -0500 (Sun, 09 Feb 2025) EllapsedTime: 72.8 seconds RetCode: 0 Status: OK