Package: Voyager Version: 1.9.2 Command: /home/biocbuild/bbs-3.21-bioc/R/bin/R CMD check --install=check:Voyager.install-out.txt --library=/home/biocbuild/bbs-3.21-bioc/R/site-library --timings Voyager_1.9.2.tar.gz StartedAt: 2025-02-13 03:43:19 -0500 (Thu, 13 Feb 2025) EndedAt: 2025-02-13 03:57:59 -0500 (Thu, 13 Feb 2025) EllapsedTime: 880.5 seconds RetCode: 0 Status: WARNINGS CheckDir: Voyager.Rcheck Warnings: 1