Package: Voyager Version: 1.9.2 Command: /home/biocbuild/bbs-3.21-bioc/R/bin/R CMD INSTALL Voyager StartedAt: 2025-02-12 15:37:22 -0500 (Wed, 12 Feb 2025) EndedAt: 2025-02-12 15:38:13 -0500 (Wed, 12 Feb 2025) EllapsedTime: 50.8 seconds RetCode: 0 Status: OK