Package: Voyager Version: 1.9.2 Command: rm -rf Voyager.buildbin-libdir && mkdir Voyager.buildbin-libdir && E:\biocbuild\bbs-3.21-bioc\R\bin\R.exe CMD INSTALL --build --library=Voyager.buildbin-libdir Voyager_1.9.2.tar.gz StartedAt: 2025-02-10 08:57:01 -0500 (Mon, 10 Feb 2025) EndedAt: 2025-02-10 08:58:39 -0500 (Mon, 10 Feb 2025) EllapsedTime: 98.4 seconds RetCode: 0 Status: OK PackageFile: Voyager_1.9.2.zip PackageFileSize: 2.774 MiB