Package: Voyager Version: 1.9.2 Command: chmod a+r Voyager -R && E:\biocbuild\bbs-3.21-bioc\R\bin\R.exe CMD build --keep-empty-dirs --no-resave-data Voyager StartedAt: 2025-02-09 22:16:12 -0500 (Sun, 09 Feb 2025) EndedAt: 2025-02-09 22:18:31 -0500 (Sun, 09 Feb 2025) EllapsedTime: 138.4 seconds RetCode: 0 Status: OK PackageFile: Voyager_1.9.2.tar.gz PackageFileSize: 2.801 MiB