Package: Voyager Version: 1.9.2 Command: E:\biocbuild\bbs-3.21-bioc\R\bin\R.exe CMD check --no-multiarch --install=check:Voyager.install-out.txt --library=E:\biocbuild\bbs-3.21-bioc\R\library --no-vignettes --timings Voyager_1.9.2.tar.gz StartedAt: 2025-02-10 06:33:00 -0500 (Mon, 10 Feb 2025) EndedAt: 2025-02-10 06:47:46 -0500 (Mon, 10 Feb 2025) EllapsedTime: 885.9 seconds RetCode: 0 Status: WARNINGS CheckDir: Voyager.Rcheck Warnings: 1