Package: VplotR Version: 1.17.0 Command: /Library/Frameworks/R.framework/Resources/bin/R CMD check --install=check:VplotR.install-out.txt --library=/Library/Frameworks/R.framework/Resources/library --no-vignettes --timings VplotR_1.17.0.tar.gz StartedAt: 2025-02-09 21:56:26 -0500 (Sun, 09 Feb 2025) EndedAt: 2025-02-09 21:58:26 -0500 (Sun, 09 Feb 2025) EllapsedTime: 120.5 seconds RetCode: 0 Status: OK CheckDir: VplotR.Rcheck Warnings: 0