Package: VplotR Version: 1.17.0 Command: rm -rf VplotR.buildbin-libdir && mkdir VplotR.buildbin-libdir && /Users/biocbuild/BBS/utils/build-universal.sh VplotR_1.17.0.tar.gz /Library/Frameworks/R.framework/Resources/bin/R VplotR.buildbin-libdir StartedAt: 2025-02-10 01:22:12 -0500 (Mon, 10 Feb 2025) EndedAt: 2025-02-10 01:22:55 -0500 (Mon, 10 Feb 2025) EllapsedTime: 42.8 seconds RetCode: 0 Status: OK PackageFile: VplotR_1.17.0.tgz PackageFileSize: 5.278 MiB