Package: VplotR Version: 1.17.0 Command: /Library/Frameworks/R.framework/Resources/bin/R CMD build --keep-empty-dirs --no-resave-data VplotR StartedAt: 2025-02-09 18:49:44 -0500 (Sun, 09 Feb 2025) EndedAt: 2025-02-09 18:51:52 -0500 (Sun, 09 Feb 2025) EllapsedTime: 127.7 seconds RetCode: 0 Status: OK PackageFile: VplotR_1.17.0.tar.gz PackageFileSize: 5.163 MiB