Package: VplotR Version: 1.17.0 Command: /home/biocbuild/bbs-3.21-bioc/R/bin/R CMD build --keep-empty-dirs --no-resave-data VplotR StartedAt: 2025-02-09 19:44:15 -0500 (Sun, 09 Feb 2025) EndedAt: 2025-02-09 19:46:03 -0500 (Sun, 09 Feb 2025) EllapsedTime: 108.1 seconds RetCode: 0 Status: OK PackageFile: VplotR_1.17.0.tar.gz PackageFileSize: 5.16 MiB