Package: VplotR Version: 1.17.0 Command: /home/biocbuild/bbs-3.21-bioc/R/bin/R CMD INSTALL VplotR StartedAt: 2025-02-09 15:49:00 -0500 (Sun, 09 Feb 2025) EndedAt: 2025-02-09 15:49:30 -0500 (Sun, 09 Feb 2025) EllapsedTime: 30.5 seconds RetCode: 0 Status: OK