Package: VplotR Version: 1.17.0 Command: rm -rf VplotR.buildbin-libdir && mkdir VplotR.buildbin-libdir && E:\biocbuild\bbs-3.21-bioc\R\bin\R.exe CMD INSTALL --build --library=VplotR.buildbin-libdir VplotR_1.17.0.tar.gz StartedAt: 2025-02-10 08:57:02 -0500 (Mon, 10 Feb 2025) EndedAt: 2025-02-10 08:57:43 -0500 (Mon, 10 Feb 2025) EllapsedTime: 40.6 seconds RetCode: 0 Status: OK PackageFile: VplotR_1.17.0.zip PackageFileSize: 5.122 MiB