Package: VplotR Version: 1.17.0 Command: E:\biocbuild\bbs-3.21-bioc\R\bin\R.exe CMD check --no-multiarch --install=check:VplotR.install-out.txt --library=E:\biocbuild\bbs-3.21-bioc\R\library --no-vignettes --timings VplotR_1.17.0.tar.gz StartedAt: 2025-02-13 06:44:52 -0500 (Thu, 13 Feb 2025) EndedAt: 2025-02-13 06:51:23 -0500 (Thu, 13 Feb 2025) EllapsedTime: 390.9 seconds RetCode: 0 Status: OK CheckDir: VplotR.Rcheck Warnings: 0