Package: VplotR Version: 1.17.0 Command: E:\biocbuild\bbs-3.21-bioc\R\bin\R.exe CMD INSTALL VplotR StartedAt: 2025-02-09 16:12:36 -0500 (Sun, 09 Feb 2025) EndedAt: 2025-02-09 16:13:25 -0500 (Sun, 09 Feb 2025) EllapsedTime: 49.6 seconds RetCode: 0 Status: OK