Package: XINA Version: 1.25.0 Command: /home/biocbuild/bbs-3.21-bioc/R/bin/R CMD build --keep-empty-dirs --no-resave-data XINA StartedAt: 2025-02-09 19:46:53 -0500 (Sun, 09 Feb 2025) EndedAt: 2025-02-09 19:47:21 -0500 (Sun, 09 Feb 2025) EllapsedTime: 28.0 seconds RetCode: 0 Status: OK PackageFile: XINA_1.25.0.tar.gz PackageFileSize: 2.752 MiB