Package: XINA Version: 1.25.0 Command: E:\biocbuild\bbs-3.21-bioc\R\bin\R.exe CMD check --no-multiarch --install=check:XINA.install-out.txt --library=E:\biocbuild\bbs-3.21-bioc\R\library --no-vignettes --timings XINA_1.25.0.tar.gz StartedAt: 2025-02-13 06:49:50 -0500 (Thu, 13 Feb 2025) EndedAt: 2025-02-13 06:52:28 -0500 (Thu, 13 Feb 2025) EllapsedTime: 157.8 seconds RetCode: 0 Status: OK CheckDir: XINA.Rcheck Warnings: 0