Package: XVector Version: 0.47.2 Command: rm -rf XVector.buildbin-libdir && mkdir XVector.buildbin-libdir && /Users/biocbuild/BBS/utils/build-universal.sh XVector_0.47.2.tar.gz /Library/Frameworks/R.framework/Resources/bin/R XVector.buildbin-libdir StartedAt: 2025-02-09 22:35:08 -0500 (Sun, 09 Feb 2025) EndedAt: 2025-02-09 22:35:15 -0500 (Sun, 09 Feb 2025) EllapsedTime: 7.1 seconds RetCode: 0 Status: OK PackageFile: XVector_0.47.2.tgz PackageFileSize: 620.6 KiB