Package: XVector Version: 0.47.2 Command: /Library/Frameworks/R.framework/Resources/bin/R CMD build --keep-empty-dirs --no-resave-data XVector StartedAt: 2025-02-09 17:55:28 -0500 (Sun, 09 Feb 2025) EndedAt: 2025-02-09 17:55:29 -0500 (Sun, 09 Feb 2025) EllapsedTime: 1.0 seconds RetCode: 0 Status: OK PackageFile: XVector_0.47.2.tar.gz PackageFileSize: 66.34 KiB