Package: XVector Version: 0.47.2 Command: /Library/Frameworks/R.framework/Resources/bin/R CMD check --install=check:XVector.install-out.txt --library=/Library/Frameworks/R.framework/Resources/library --no-vignettes --timings XVector_0.47.2.tar.gz StartedAt: 2025-02-12 22:04:10 -0500 (Wed, 12 Feb 2025) EndedAt: 2025-02-12 22:04:38 -0500 (Wed, 12 Feb 2025) EllapsedTime: 28.4 seconds RetCode: 0 Status: WARNINGS CheckDir: XVector.Rcheck Warnings: 2