Package: XVector Version: 0.47.2 Command: /home/biocbuild/R/R/bin/R CMD INSTALL XVector StartedAt: 2025-01-29 19:34:28 -0000 (Wed, 29 Jan 2025) EndedAt: 2025-01-29 19:35:15 -0000 (Wed, 29 Jan 2025) EllapsedTime: 47.7 seconds RetCode: 0 Status: OK