Package: XVector Version: 0.47.2 Command: rm -rf XVector.buildbin-libdir && mkdir XVector.buildbin-libdir && /Users/biocbuild/BBS/utils/build-universal.sh XVector_0.47.2.tar.gz /Library/Frameworks/R.framework/Resources/bin/R XVector.buildbin-libdir StartedAt: 2025-02-10 01:22:35 -0500 (Mon, 10 Feb 2025) EndedAt: 2025-02-10 01:23:01 -0500 (Mon, 10 Feb 2025) EllapsedTime: 26.0 seconds RetCode: 0 Status: OK PackageFile: XVector_0.47.2.tgz PackageFileSize: 622.5 KiB