Package: Xeva Version: 1.23.1 Command: rm -rf Xeva.buildbin-libdir && mkdir Xeva.buildbin-libdir && /Users/biocbuild/BBS/utils/build-universal.sh Xeva_1.23.1.tar.gz /Library/Frameworks/R.framework/Resources/bin/R Xeva.buildbin-libdir StartedAt: 2025-02-04 22:36:48 -0500 (Tue, 04 Feb 2025) EndedAt: 2025-02-04 22:37:03 -0500 (Tue, 04 Feb 2025) EllapsedTime: 15.0 seconds RetCode: 0 Status: OK PackageFile: Xeva_1.23.1.tgz PackageFileSize: 1.443 MiB